BEGIN:VCALENDAR
VERSION:2.0
PRODID:-//NT Polocrosse - ECPv6.15.16//NONSGML v1.0//EN
CALSCALE:GREGORIAN
METHOD:PUBLISH
X-ORIGINAL-URL:https://ntpolocrosse.com.au
X-WR-CALDESC:Events for NT Polocrosse
REFRESH-INTERVAL;VALUE=DURATION:PT1H
X-Robots-Tag:noindex
X-PUBLISHED-TTL:PT1H
BEGIN:VTIMEZONE
TZID:Australia/Darwin
BEGIN:STANDARD
TZOFFSETFROM:+0930
TZOFFSETTO:+0930
TZNAME:ACST
DTSTART:20220101T000000
END:STANDARD
END:VTIMEZONE
BEGIN:VEVENT
DTSTART;TZID=Australia/Darwin:20230902T080000
DTEND;TZID=Australia/Darwin:20230903T170000
DTSTAMP:20260425T060249
CREATED:20230720T073945Z
LAST-MODIFIED:20230720T073945Z
UID:214-1693641600-1693760400@ntpolocrosse.com.au
SUMMARY:CHAMPS / NTPA
DESCRIPTION:
URL:https://ntpolocrosse.com.au/event/champs-ntpa/
LOCATION:Freds Pass
END:VEVENT
BEGIN:VEVENT
DTSTART;TZID=Australia/Darwin:20230826T080000
DTEND;TZID=Australia/Darwin:20230827T170000
DTSTAMP:20260425T060249
CREATED:20230720T073911Z
LAST-MODIFIED:20230720T074058Z
UID:210-1693036800-1693155600@ntpolocrosse.com.au
SUMMARY:Howard Springs
DESCRIPTION:
URL:https://ntpolocrosse.com.au/event/howard-springs-2/
LOCATION:Freds Pass
END:VEVENT
BEGIN:VEVENT
DTSTART;TZID=Australia/Darwin:20230819T080000
DTEND;TZID=Australia/Darwin:20230820T170000
DTSTAMP:20260425T060249
CREATED:20230720T073844Z
LAST-MODIFIED:20230720T073844Z
UID:206-1692432000-1692550800@ntpolocrosse.com.au
SUMMARY:Howard Springs
DESCRIPTION:
URL:https://ntpolocrosse.com.au/event/howard-springs/
LOCATION:Freds Pass
END:VEVENT
BEGIN:VEVENT
DTSTART;TZID=Australia/Darwin:20230812T080000
DTEND;TZID=Australia/Darwin:20230813T170000
DTSTAMP:20260425T060249
CREATED:20230720T014718Z
LAST-MODIFIED:20230720T014718Z
UID:140-1691827200-1691946000@ntpolocrosse.com.au
SUMMARY:Palmerston
DESCRIPTION:
URL:https://ntpolocrosse.com.au/event/palmerston/
LOCATION:Robbie Robbins Reserve
END:VEVENT
BEGIN:VEVENT
DTSTART;TZID=Australia/Darwin:20230805T080000
DTEND;TZID=Australia/Darwin:20230806T170000
DTSTAMP:20260425T060249
CREATED:20230720T014615Z
LAST-MODIFIED:20230720T014615Z
UID:135-1691222400-1691341200@ntpolocrosse.com.au
SUMMARY:TURF NT / NTPA
DESCRIPTION:
URL:https://ntpolocrosse.com.au/event/turf-nt-ntpa/
LOCATION:Freds Pass
END:VEVENT
END:VCALENDAR